BEGIN:VCALENDAR
VERSION:2.0
PRODID:-//7Dias7Noches - ECPv6.3.3.1//NONSGML v1.0//EN
CALSCALE:GREGORIAN
METHOD:PUBLISH
X-WR-CALNAME:7Dias7Noches
X-ORIGINAL-URL:https://7dias7noches.net
X-WR-CALDESC:Events for 7Dias7Noches
REFRESH-INTERVAL;VALUE=DURATION:PT1H
X-Robots-Tag:noindex
X-PUBLISHED-TTL:PT1H
BEGIN:VTIMEZONE
TZID:America/New_York
BEGIN:DAYLIGHT
TZOFFSETFROM:-0500
TZOFFSETTO:-0400
TZNAME:EDT
DTSTART:20230312T070000
END:DAYLIGHT
BEGIN:STANDARD
TZOFFSETFROM:-0400
TZOFFSETTO:-0500
TZNAME:EST
DTSTART:20231105T060000
END:STANDARD
BEGIN:DAYLIGHT
TZOFFSETFROM:-0500
TZOFFSETTO:-0400
TZNAME:EDT
DTSTART:20240310T070000
END:DAYLIGHT
BEGIN:STANDARD
TZOFFSETFROM:-0400
TZOFFSETTO:-0500
TZNAME:EST
DTSTART:20241103T060000
END:STANDARD
END:VTIMEZONE
BEGIN:VEVENT
DTSTART;TZID=America/New_York:20231231T210000
DTEND;TZID=America/New_York:20240101T040000
DTSTAMP:20260422T062515
CREATED:20231224T224020Z
LAST-MODIFIED:20231231T222113Z
UID:32354-1704056400-1704081600@7dias7noches.net
SUMMARY:The Gatbsy New Year Eve 2024 @ Vida Garden NJ
DESCRIPTION:Everyone Free All Night \nStep into the New Year with Splendor at the Exclusive Gatsby Gala \nAs the final moments of the year tick away\, Hidden Garden beckons you to a night filled with elegance and excitement. The Gatsby New Year’s Eve Party is not just an event; it’s the place where memories of a lifetime are forged under the shimmering lights and festive atmosphere. \nSave the Date: December 31st Location: Hidden Garden\, 16 Armory Street\, Englewood\, NJ 07631 \nHighlights of the Night: \n\nMasterful Beats: Get lost in the music curated by our stellar ensemble of DJs – Kenny May\, Los\, Reymo\, Pipe\, and Bentley – who promise an auditory feast that’ll keep your spirits high and feet moving.\nA Glimpse of the Roaring Twenties: Immerse yourself in the opulence of the Gatsby era\, recreated with meticulous attention to detail at the Hidden Garden.\nSpectacular Entertainment: Witness a unique “Big Ass Robot Show\,” be enchanted by our troupe of live dancers\, and get into the groove with the live drummer’s beats.\nMidnight Celebrations: A complimentary champagne toast awaits as we countdown to the New Year\, along with party favors and a sensational confetti drop.\nElite Bottle Service: Indulge in the ultimate luxury with our bottle packages\, offering you premium service and an unmatched VIP experience.\n\nAdmission Details: \n\nStandard Entry: $65 for a grand entrance and 2 complimentary drinks.\nVIP Access: Complimentary with any bottle service reservation.\nEarly Arrival Special: Free pass available from 9 PM to 12 AM.\n\nDress Code: Evoke the spirit of Gatsby with your attire. This is a night to dazzle\, so dress in your most impressive and chic outfits. \nMake Your Reservation Now: \n\nCall (201) 508 9820 or (201) 759 4648 to book your tickets.\n\nThis New Year’s Eve\, indulge in the luxury that you deserve. Spots are coveted and limited\, so ensure your place at the most glamorous event of the year. We’re ready to welcome you to an evening where every detail is crafted for delight. Join us for a toast to the New Year at the Gatsby Gala – where the party never stops\, and the memories last forever. \n \n\n\n  \n\n \n\n \n \n\n\n \n \n\nView this post on Instagram\n\n \n\n\n \n \n \n\n\n \n \n\n\n \n \n \n\n\n\n \n \n\n  \nA post shared by Vida Garden (@vidagardennj) \n\n\n \n \n\n\n  \n\n \n\n \n \n\n\n \n \n\nView this post on Instagram\n\n \n\n\n \n \n \n\n\n \n \n\n\n \n \n \n\n\n\n \n \n\n  \nA post shared by Vida Garden (@vidagardennj) \n\n\n 
URL:https://7dias7noches.net/event/32354/
LOCATION:Vida Garden\, 16 Armory St\, Englewood\, NJ\, 07631\, United States
CATEGORIES:Night Club,Special Event
ATTACH;FMTTYPE=image/jpeg:https://7dias7noches.net/wp-content/uploads/2023/12/WhatsApp-Image-2023-12-26-at-8.25.28-PM-1.jpeg
END:VEVENT
END:VCALENDAR