BEGIN:VCALENDAR
VERSION:2.0
PRODID:-//7Dias7Noches - ECPv6.3.3.1//NONSGML v1.0//EN
CALSCALE:GREGORIAN
METHOD:PUBLISH
X-WR-CALNAME:7Dias7Noches
X-ORIGINAL-URL:https://7dias7noches.net
X-WR-CALDESC:Events for 7Dias7Noches
REFRESH-INTERVAL;VALUE=DURATION:PT1H
X-Robots-Tag:noindex
X-PUBLISHED-TTL:PT1H
BEGIN:VTIMEZONE
TZID:America/New_York
BEGIN:DAYLIGHT
TZOFFSETFROM:-0500
TZOFFSETTO:-0400
TZNAME:EDT
DTSTART:20240310T070000
END:DAYLIGHT
BEGIN:STANDARD
TZOFFSETFROM:-0400
TZOFFSETTO:-0500
TZNAME:EST
DTSTART:20241103T060000
END:STANDARD
END:VTIMEZONE
BEGIN:VEVENT
DTSTART;TZID=America/New_York:20241214T230000
DTEND;TZID=America/New_York:20241215T040000
DTSTAMP:20260424T073727
CREATED:20241130T023419Z
LAST-MODIFIED:20241130T032257Z
UID:34000-1734217200-1734235200@7dias7noches.net
SUMMARY:Young Chimi Live @ Salsa Con Fuego
DESCRIPTION:Yovng Chimi Live! Exclusive Performance At Salsa Con Fuego Nyc \nJoin us for an unforgettable night with Yovng Chimi live on stage at Salsa Con Fuego in the Bronx for Christmas Land’s 10th Anniversary! Celebrate the biggest Christmas party of the year on Saturday\, December 14th\, with one of the hottest reggaeton/rap artists in the world. This event sells out every year\, so secure your tickets now! \n\n21+ Event\nTICKETS ON SALE NOW\nDoors Open at 10 PM\nFor Reservation Or Any Question Please Call: 718-561-6161\n\nCome be part of our biggest event of the year 2024! Don’t miss out! \n  \nhttps://www.eventbrite.com/e/yovng-chimi-en-exclusiva-sat-dec-14th-christmas-land-at-salsa-con-fuego-ny-tickets-1077775939849?aff=ebdssbdestsearch
URL:https://7dias7noches.net/event/34000/
LOCATION:Salsa Con Fuego\, 2297 Cedar Ave\, Bronx\, NY\, 10468
CATEGORIES:Concert,Live Performance,Night Club
ATTACH;FMTTYPE=image/jpeg:https://7dias7noches.net/wp-content/uploads/2024/11/WhatsApp-Image-2024-11-19-at-17.04.36_ba3a48a2.jpg
END:VEVENT
END:VCALENDAR