BEGIN:VCALENDAR
VERSION:2.0
PRODID:-//7Dias7Noches - ECPv6.3.3.1//NONSGML v1.0//EN
CALSCALE:GREGORIAN
METHOD:PUBLISH
X-ORIGINAL-URL:https://7dias7noches.net
X-WR-CALDESC:Events for 7Dias7Noches
REFRESH-INTERVAL;VALUE=DURATION:PT1H
X-Robots-Tag:noindex
X-PUBLISHED-TTL:PT1H
BEGIN:VTIMEZONE
TZID:America/New_York
BEGIN:DAYLIGHT
TZOFFSETFROM:-0500
TZOFFSETTO:-0400
TZNAME:EDT
DTSTART:20220313T070000
END:DAYLIGHT
BEGIN:STANDARD
TZOFFSETFROM:-0400
TZOFFSETTO:-0500
TZNAME:EST
DTSTART:20221106T060000
END:STANDARD
END:VTIMEZONE
BEGIN:VEVENT
DTSTART;TZID=America/New_York:20220722T190000
DTEND;TZID=America/New_York:20220723T040000
DTSTAMP:20260424T134406
CREATED:20220713T050744Z
LAST-MODIFIED:20220721T072809Z
UID:30775-1658516400-1658548800@7dias7noches.net
SUMMARY:J Prince Live Friday July 22 @ Coco La Reve
DESCRIPTION:https://www.eventbrite.com/e/ji-the-prince-of-new-york-performing-live-coco-la-reve-tickets-383561291147?aff=gdaprez \nGLAMOUR FRIDAYS\nDINNER + LATE NIGHT PARTY \nAT COCO LA REVE\n42-18 31ST AVE \, ASTORIA NY 11103 \nDOORS OPEN AT 7PM\nGENTS FREE TILL 11PM\nLADIES FREE TILL 1 AM IN DRESS \nValet available 🚙 \n2 CASAMIGOS $300++ BEFORE 1 \nRSVP call or text 9294441394 \nBdays specials and bottle specials available \n \n \n\n\n  \n\n \n\n \n \n\n\n \n \n\nView this post on Instagram\n\n \n\n\n \n \n \n\n\n \n \n\n\n \n \n \n\n\n\n \n \n\n  \nA post shared by Coco La Reve (@cocolareve) \n\n\n \n\n\n  \n\n \n\n \n \n\n\n \n \n\nView this post on Instagram\n\n \n\n\n \n \n \n\n\n \n \n\n\n \n \n \n\n\n\n \n \n\n  \nA post shared by Coco La Reve (@cocolareve) \n\n\n 
URL:https://7dias7noches.net/event/glamour-fridays-coco-la-reve/
LOCATION:Coco La Reve\, 42-18 31st Avenue\, Queens\, NY\, 11103\, United States
CATEGORIES:Afterwork,Night Club
ATTACH;FMTTYPE=image/jpeg:https://7dias7noches.net/wp-content/uploads/2022/07/WhatsApp-Image-2022-07-19-at-2.29.24-PM-1.jpeg
END:VEVENT
BEGIN:VEVENT
DTSTART;TZID=America/New_York:20220722T200000
DTEND;TZID=America/New_York:20220723T030000
DTSTAMP:20260424T134406
CREATED:20220720T010406Z
LAST-MODIFIED:20220720T010816Z
UID:31056-1658520000-1658545200@7dias7noches.net
SUMMARY:Good Life Thursdays @ Fiesta
DESCRIPTION:Music by Dj Moreno. \n$99 Bottle of Casamigo until 10pm \n$150 Moet ROse  all night \n$5 Long Island ICe Tea all night.
URL:https://7dias7noches.net/event/good-life-thursdays-fiesta/
LOCATION:Fiesta Nightclub\, 115 President St\, Passaic\, Nj\, 07055
CATEGORIES:Afterwork,Food & Lounge,Night Club
ATTACH;FMTTYPE=image/jpeg:https://7dias7noches.net/wp-content/uploads/2022/07/WhatsApp-Image-2022-07-18-at-11.36.21-PM.jpeg
END:VEVENT
BEGIN:VEVENT
DTSTART;TZID=America/New_York:20220722T210000
DTEND;TZID=America/New_York:20220723T020000
DTSTAMP:20260424T134406
CREATED:20220720T014108Z
LAST-MODIFIED:20220720T014108Z
UID:31073-1658523600-1658541600@7dias7noches.net
SUMMARY:Function Fridays @ Glorias
DESCRIPTION:Music by DJ Moreno
URL:https://7dias7noches.net/event/function-fridays-glorias/
LOCATION:Gloria’s\, 36 Broad St\, Bloomfield\, NJ\, 07003\, United States
CATEGORIES:Afterwork,Food & Lounge
ATTACH;FMTTYPE=image/jpeg:https://7dias7noches.net/wp-content/uploads/2022/07/WhatsApp-Image-2022-07-18-at-11.36.32-PM.jpeg
END:VEVENT
END:VCALENDAR