BEGIN:VCALENDAR
VERSION:2.0
PRODID:-//7Dias7Noches - ECPv6.3.3.1//NONSGML v1.0//EN
CALSCALE:GREGORIAN
METHOD:PUBLISH
X-WR-CALNAME:7Dias7Noches
X-ORIGINAL-URL:https://7dias7noches.net
X-WR-CALDESC:Events for 7Dias7Noches
REFRESH-INTERVAL;VALUE=DURATION:PT1H
X-Robots-Tag:noindex
X-PUBLISHED-TTL:PT1H
BEGIN:VTIMEZONE
TZID:America/New_York
BEGIN:DAYLIGHT
TZOFFSETFROM:-0500
TZOFFSETTO:-0400
TZNAME:EDT
DTSTART:20240310T070000
END:DAYLIGHT
BEGIN:STANDARD
TZOFFSETFROM:-0400
TZOFFSETTO:-0500
TZNAME:EST
DTSTART:20241103T060000
END:STANDARD
END:VTIMEZONE
BEGIN:VEVENT
DTSTART;TZID=America/New_York:20240505T170000
DTEND;TZID=America/New_York:20240505T235900
DTSTAMP:20260424T110430
CREATED:20240501T034417Z
LAST-MODIFIED:20240501T034531Z
UID:33337-1714928400-1714953540@7dias7noches.net
SUMMARY:Cinco De Mayo Brunch and After Party at Playoffs Lounge
DESCRIPTION:Cinco De Mayo at Playoffs Lounge\nCome Eat – Drink – Smoke Hookah and Celebrate the Cinco\n\n\n\nCinco De Mayo All Day Brunch and After Party at Playoffs Lounge \nBrunch from 1pm to 5pm \nBrunch Consist of \nYour choice of 4 Hour Sangria or Mimosa + 3 Course Meal \nfor $55 per person to Book please Call 718-601-0777 to Rsvp \nThe After Brunch Party from 5pm to Midnight \nEVERYONE FREE WITH RSVP ONLY \nDrink & Tequila Shot Specials \nBucket of Beer Specials \nAssorted Picadera Platters \nBottle Specials \nSounds by Djs Sanone – Cazper – Lilo – Werd Da Mouf – NP \nPlaying the best of Everything Latin – Hip Hop and Old School \n  \nCasual Attire / 21 & Over Event \n  \nBottle Specials Starting at 2 for $300\nText 917-797-8644 to RSVP
URL:https://7dias7noches.net/event/cinco-de-mayo-brunch-and-after-party-at-playoffs-lounge/
LOCATION:Playoffs Sports Lounge\, 5668 Broadway\, Bronx\, NY\, 10463\, United States
CATEGORIES:Brunch
ATTACH;FMTTYPE=image/jpeg:https://7dias7noches.net/wp-content/uploads/2024/04/5225ab24b007cdae512bf69efdba3fbb-5ZcKU4.tmp_.jpg
END:VEVENT
END:VCALENDAR