BEGIN:VCALENDAR
VERSION:2.0
PRODID:-//7Dias7Noches - ECPv6.3.3.1//NONSGML v1.0//EN
CALSCALE:GREGORIAN
METHOD:PUBLISH
X-WR-CALNAME:7Dias7Noches
X-ORIGINAL-URL:https://7dias7noches.net
X-WR-CALDESC:Events for 7Dias7Noches
REFRESH-INTERVAL;VALUE=DURATION:PT1H
X-Robots-Tag:noindex
X-PUBLISHED-TTL:PT1H
BEGIN:VTIMEZONE
TZID:America/New_York
BEGIN:DAYLIGHT
TZOFFSETFROM:-0500
TZOFFSETTO:-0400
TZNAME:EDT
DTSTART:20220313T070000
END:DAYLIGHT
BEGIN:STANDARD
TZOFFSETFROM:-0400
TZOFFSETTO:-0500
TZNAME:EST
DTSTART:20221106T060000
END:STANDARD
END:VTIMEZONE
BEGIN:VEVENT
DTSTART;TZID=America/New_York:20220819T210000
DTEND;TZID=America/New_York:20220820T030000
DTSTAMP:20260419T192601
CREATED:20220817T014532Z
LAST-MODIFIED:20220817T014546Z
UID:31372-1660942800-1660964400@7dias7noches.net
SUMMARY:Joe Veras
DESCRIPTION:
URL:https://7dias7noches.net/event/joey-veras/
LOCATION:Anais Lounge\, 52 Garden St\, Passaic\, NJ\, 07055\, United States
CATEGORIES:Concert,Live Performance,Night Club
ATTACH;FMTTYPE=image/jpeg:https://7dias7noches.net/wp-content/uploads/2022/08/WhatsApp-Image-2022-08-16-at-7.26.21-PM.jpeg
END:VEVENT
BEGIN:VEVENT
DTSTART;TZID=America/New_York:20220820T220000
DTEND;TZID=America/New_York:20220821T040000
DTSTAMP:20260419T192601
CREATED:20220811T061049Z
LAST-MODIFIED:20220811T061049Z
UID:31263-1661032800-1661054400@7dias7noches.net
SUMMARY:Nengo Flow Live
DESCRIPTION:Nengo Flow and DJ Pereira
URL:https://7dias7noches.net/event/nengo-flow-live/
LOCATION:Mellrose Ballroom\, 3608 33rd St\, Queens\, NY\, 11106\, United States
CATEGORIES:Concert,Live Performance,Night Club
ATTACH;FMTTYPE=image/jpeg:https://7dias7noches.net/wp-content/uploads/2022/08/WhatsApp-Image-2022-08-10-at-10.36.43-PM.jpeg
END:VEVENT
BEGIN:VEVENT
DTSTART;TZID=America/New_York:20220821T220000
DTEND;TZID=America/New_York:20220822T040000
DTSTAMP:20260419T192601
CREATED:20220812T012732Z
LAST-MODIFIED:20220812T012732Z
UID:31320-1661119200-1661140800@7dias7noches.net
SUMMARY:Amenazzy En Vivo @ Boca
DESCRIPTION:Live performance by Amenazzy. Music by DJ Flipstar & ABoogie
URL:https://7dias7noches.net/event/amenazzy-en-vivo-boca/
LOCATION:Boca Restaurant Lounge\, 2458 Webster Ave\, Bronx\, NY\, 10458\, United States
CATEGORIES:Concert,Live Performance,Night Club
ATTACH;FMTTYPE=image/jpeg:https://7dias7noches.net/wp-content/uploads/2022/08/WhatsApp-Image-2022-08-10-at-10.33.23-PM2.jpeg
END:VEVENT
END:VCALENDAR