BEGIN:VCALENDAR
VERSION:2.0
PRODID:-//7Dias7Noches - ECPv6.3.3.1//NONSGML v1.0//EN
CALSCALE:GREGORIAN
METHOD:PUBLISH
X-WR-CALNAME:7Dias7Noches
X-ORIGINAL-URL:https://7dias7noches.net
X-WR-CALDESC:Events for 7Dias7Noches
REFRESH-INTERVAL;VALUE=DURATION:PT1H
X-Robots-Tag:noindex
X-PUBLISHED-TTL:PT1H
BEGIN:VTIMEZONE
TZID:America/New_York
BEGIN:DAYLIGHT
TZOFFSETFROM:-0500
TZOFFSETTO:-0400
TZNAME:EDT
DTSTART:20220313T070000
END:DAYLIGHT
BEGIN:STANDARD
TZOFFSETFROM:-0400
TZOFFSETTO:-0500
TZNAME:EST
DTSTART:20221106T060000
END:STANDARD
END:VTIMEZONE
BEGIN:VEVENT
DTSTART;TZID=America/New_York:20220820T210000
DTEND;TZID=America/New_York:20220821T020000
DTSTAMP:20260422T060436
CREATED:20220817T153013Z
LAST-MODIFIED:20220817T153013Z
UID:31437-1661029200-1661047200@7dias7noches.net
SUMMARY:Noches De Bandoleras
DESCRIPTION:Music by DJ Aneudy & Dj Blaster \n 
URL:https://7dias7noches.net/event/noches-de-bandoleras/
LOCATION:Bandolera\, 418 43rd St\, Union City\, NJ\, 07087\, United States
CATEGORIES:Food & Lounge,Night Club
ATTACH;FMTTYPE=image/jpeg:https://7dias7noches.net/wp-content/uploads/2022/08/WhatsApp-Image-2022-08-17-at-11.27.44-AM.jpeg
END:VEVENT
BEGIN:VEVENT
DTSTART;TZID=America/New_York:20220821T120000
DTEND;TZID=America/New_York:20220821T200000
DTSTAMP:20260422T060436
CREATED:20220709T213551Z
LAST-MODIFIED:20220818T031341Z
UID:30837-1661083200-1661112000@7dias7noches.net
SUMMARY:Coco Brunch @ Coco La Reve
DESCRIPTION:Brunch and Day Party.\nOutdoor Garden\n$39.99 Brunch inlcudes appetizer\, entree and large pitcher of Sangria or Mimosa.\nReservations text 917-774-0515 \n  \n\n\n  \n\n \n\n \n \n\n\n \n \n\nView this post on Instagram\n\n \n\n\n \n \n \n\n\n \n \n\n\n \n \n \n\n\n\n \n \n\n  \nA post shared by Coco La Reve (@cocolareve) \n\n\n  \n\n\n  \n\n \n\n \n \n\n\n \n \n\nView this post on Instagram\n\n \n\n\n \n \n \n\n\n \n \n\n\n \n \n \n\n\n\n \n \n\n  \nA post shared by Coco La Reve (@cocolareve) \n\n\n  \n 
URL:https://7dias7noches.net/event/coco-brunch-coco-la-reve/2022-08-21/
LOCATION:Coco La Reve\, 42-18 31st Avenue\, Queens\, NY\, 11103\, United States
CATEGORIES:Brunch,Food & Lounge,Outdoor Event
ATTACH;FMTTYPE=image/jpeg:https://7dias7noches.net/wp-content/uploads/2022/07/WhatsApp-Image-2022-08-17-at-1.16.06-AM.jpeg
END:VEVENT
BEGIN:VEVENT
DTSTART;TZID=America/New_York:20220821T170000
DTEND;TZID=America/New_York:20220821T220000
DTSTAMP:20260422T060436
CREATED:20220817T151437Z
LAST-MODIFIED:20220817T151800Z
UID:31430-1661101200-1661119200@7dias7noches.net
SUMMARY:Prodigio Live
DESCRIPTION:Music by DJ Aneudy \nLive Performance by Prodigio \nBand Starts at 7pm
URL:https://7dias7noches.net/event/prodigio-live/
LOCATION:Carneval Bar & Grill\, 507 Grand St\, Brooklyn\, NY\, 11211
CATEGORIES:Afterwork,Food & Lounge,Live Performance,Special Event
ATTACH;FMTTYPE=image/jpeg:https://7dias7noches.net/wp-content/uploads/2022/08/WhatsApp-Image-2022-08-17-at-4.45.01-AM.jpeg
END:VEVENT
END:VCALENDAR