BEGIN:VCALENDAR
VERSION:2.0
PRODID:-//7Dias7Noches - ECPv6.3.3.1//NONSGML v1.0//EN
CALSCALE:GREGORIAN
METHOD:PUBLISH
X-ORIGINAL-URL:https://7dias7noches.net
X-WR-CALDESC:Events for 7Dias7Noches
REFRESH-INTERVAL;VALUE=DURATION:PT1H
X-Robots-Tag:noindex
X-PUBLISHED-TTL:PT1H
BEGIN:VTIMEZONE
TZID:America/New_York
BEGIN:DAYLIGHT
TZOFFSETFROM:-0500
TZOFFSETTO:-0400
TZNAME:EDT
DTSTART:20230312T070000
END:DAYLIGHT
BEGIN:STANDARD
TZOFFSETFROM:-0400
TZOFFSETTO:-0500
TZNAME:EST
DTSTART:20231105T060000
END:STANDARD
END:VTIMEZONE
BEGIN:VEVENT
DTSTART;TZID=America/New_York:20230303T190000
DTEND;TZID=America/New_York:20230304T020000
DTSTAMP:20260419T235745
CREATED:20230302T031304Z
LAST-MODIFIED:20230302T031318Z
UID:32103-1677870000-1677895200@7dias7noches.net
SUMMARY:Fridays After Work w/ Dj Reymo @ Viva Toro
DESCRIPTION:
URL:https://7dias7noches.net/event/fridays-after-work-w-dj-reymo-viva-toro/
LOCATION:Viva Toro\, 987 Grand St\, Brooklyn\, NY\, United States
CATEGORIES:Afterwork,Food & Lounge,Night Club
ATTACH;FMTTYPE=image/jpeg:https://7dias7noches.net/wp-content/uploads/2023/03/WhatsApp-Image-2023-03-01-at-9.40.12-PM.jpeg
END:VEVENT
END:VCALENDAR