BEGIN:VCALENDAR
VERSION:2.0
PRODID:-//7Dias7Noches - ECPv6.3.3.1//NONSGML v1.0//EN
CALSCALE:GREGORIAN
METHOD:PUBLISH
X-ORIGINAL-URL:https://7dias7noches.net
X-WR-CALDESC:Events for 7Dias7Noches
REFRESH-INTERVAL;VALUE=DURATION:PT1H
X-Robots-Tag:noindex
X-PUBLISHED-TTL:PT1H
BEGIN:VTIMEZONE
TZID:America/New_York
BEGIN:DAYLIGHT
TZOFFSETFROM:-0500
TZOFFSETTO:-0400
TZNAME:EDT
DTSTART:20220313T070000
END:DAYLIGHT
BEGIN:STANDARD
TZOFFSETFROM:-0400
TZOFFSETTO:-0500
TZNAME:EST
DTSTART:20221106T060000
END:STANDARD
END:VTIMEZONE
BEGIN:VEVENT
DTSTART;TZID=America/New_York:20220712T190000
DTEND;TZID=America/New_York:20220713T033000
DTSTAMP:20260424T120116
CREATED:20220711T220134Z
LAST-MODIFIED:20220711T220524Z
UID:30860-1657652400-1657683000@7dias7noches.net
SUMMARY:Taco Tuesday @ Fiesta
DESCRIPTION:$4 sex on the beach until 11pm\n$20 hookah all night\nBottle specials all night\nEveryone free
URL:https://7dias7noches.net/event/taco-tuesday-fiesta/
LOCATION:Fiesta Nightclub\, 115 President St\, Passaic\, Nj\, 07055
CATEGORIES:Afterwork,Food & Lounge,Night Club
ATTACH;FMTTYPE=image/jpeg:https://7dias7noches.net/wp-content/uploads/2022/07/IMG-20220711-WA0007.jpg
END:VEVENT
BEGIN:VEVENT
DTSTART;TZID=America/New_York:20220714T160000
DTEND;TZID=America/New_York:20220715T020000
DTSTAMP:20260424T120116
CREATED:20220713T043510Z
LAST-MODIFIED:20220713T043512Z
UID:30905-1657814400-1657850400@7dias7noches.net
SUMMARY:Game Night Thursdays
DESCRIPTION:Everyone Free. \nRegular Bottles $150 until 12am. \n 
URL:https://7dias7noches.net/event/game-night-thursdays/
LOCATION:El Jefe\, 186 Dyckman St\, New York\, 10040\, United States
CATEGORIES:Afterwork,Food & Lounge,Special Event
ATTACH;FMTTYPE=image/jpeg:https://7dias7noches.net/wp-content/uploads/2022/07/WhatsApp-Image-2022-07-12-at-11.30.06-PM.jpeg
END:VEVENT
BEGIN:VEVENT
DTSTART;TZID=America/New_York:20220715T160000
DTEND;TZID=America/New_York:20220716T020000
DTSTAMP:20260424T120116
CREATED:20220713T043757Z
LAST-MODIFIED:20220713T043757Z
UID:30909-1657900800-1657936800@7dias7noches.net
SUMMARY:First Class Friday
DESCRIPTION:Happy Hour 4pm-8 \nLounge until 2am. \nTop DJs in rotation. \n 
URL:https://7dias7noches.net/event/first-class-friday/2022-07-15/
LOCATION:Boca Prime\, 2257 1st Avenue\, New York\, NY\, 10029\, United States
CATEGORIES:Afterwork,Food & Lounge
ATTACH;FMTTYPE=image/jpeg:https://7dias7noches.net/wp-content/uploads/2022/07/WhatsApp-Image-2022-07-12-at-11.30.24-PM2.jpeg
END:VEVENT
BEGIN:VEVENT
DTSTART;TZID=America/New_York:20220716T140000
DTEND;TZID=America/New_York:20220716T200000
DTSTAMP:20260424T120116
CREATED:20220713T042117Z
LAST-MODIFIED:20220812T025124Z
UID:30897-1657980000-1658001600@7dias7noches.net
SUMMARY:Saturday Brunch Party @ Brasier
DESCRIPTION:Eat\, drink and party 2pm-8pm. \nFree entrance. \nBrunch pre-fix $35 \nBottle specials starting at $135. \nOutdoor and Indoor Seating. \ninfo call 212-567-1601
URL:https://7dias7noches.net/event/saturday-brunch-party-brasier/2022-07-16/
LOCATION:Brasier\, 472 W 202nd St\, New York\, NY\, 10034\, United States
CATEGORIES:Afterwork,Brunch,Food & Lounge,Outdoor Event
ATTACH;FMTTYPE=image/jpeg:https://7dias7noches.net/wp-content/uploads/2022/07/WhatsApp-Image-2022-07-12-at-11.34.58-PM.jpeg
END:VEVENT
BEGIN:VEVENT
DTSTART;TZID=America/New_York:20220716T170000
DTEND;TZID=America/New_York:20220717T020000
DTSTAMP:20260424T120116
CREATED:20220713T042918Z
LAST-MODIFIED:20220713T042919Z
UID:30901-1657990800-1658023200@7dias7noches.net
SUMMARY:Ladies Night
DESCRIPTION:Everyone Free all night. \nFood\, drnnks and music
URL:https://7dias7noches.net/event/ladies-night/2022-07-16/
LOCATION:Boca Prime\, 2257 1st Avenue\, New York\, NY\, 10029\, United States
CATEGORIES:Afterwork,Food & Lounge
ATTACH;FMTTYPE=image/jpeg:https://7dias7noches.net/wp-content/uploads/2022/07/WhatsApp-Image-2022-07-12-at-11.30.24-PM.jpeg
END:VEVENT
END:VCALENDAR