BEGIN:VCALENDAR
VERSION:2.0
PRODID:-//7Dias7Noches - ECPv6.3.3.1//NONSGML v1.0//EN
CALSCALE:GREGORIAN
METHOD:PUBLISH
X-ORIGINAL-URL:https://7dias7noches.net
X-WR-CALDESC:Events for 7Dias7Noches
REFRESH-INTERVAL;VALUE=DURATION:PT1H
X-Robots-Tag:noindex
X-PUBLISHED-TTL:PT1H
BEGIN:VTIMEZONE
TZID:America/New_York
BEGIN:DAYLIGHT
TZOFFSETFROM:-0500
TZOFFSETTO:-0400
TZNAME:EDT
DTSTART:20220313T070000
END:DAYLIGHT
BEGIN:STANDARD
TZOFFSETFROM:-0400
TZOFFSETTO:-0500
TZNAME:EST
DTSTART:20221106T060000
END:STANDARD
END:VTIMEZONE
BEGIN:VEVENT
DTSTART;TZID=America/New_York:20220721T160000
DTEND;TZID=America/New_York:20220722T020000
DTSTAMP:20260419T090713
CREATED:20220720T033201Z
LAST-MODIFIED:20220720T033201Z
UID:31114-1658419200-1658455200@7dias7noches.net
SUMMARY:Jueves De Margarita
DESCRIPTION:Music by DJ Anthony Rey \nHappy Hour 4pm-8pm: $2 Margaritas\, mixed drinks $4\, appetizers $5 \n  \n 
URL:https://7dias7noches.net/event/jueves-de-margarita/
LOCATION:Marbella Lounge\, 610 Broadway\, Newark\, NJ\, United States
CATEGORIES:Afterwork,Night Club
ATTACH;FMTTYPE=image/jpeg:https://7dias7noches.net/wp-content/uploads/2022/07/WhatsApp-Image-2022-07-18-at-11.49.32-PM1.jpeg
END:VEVENT
BEGIN:VEVENT
DTSTART;TZID=America/New_York:20220721T200000
DTEND;TZID=America/New_York:20220722T030000
DTSTAMP:20260419T090713
CREATED:20220720T001510Z
LAST-MODIFIED:20220720T001512Z
UID:31042-1658433600-1658458800@7dias7noches.net
SUMMARY:La Cultura Thursdays
DESCRIPTION:
URL:https://7dias7noches.net/event/la-cultura-thursdays/2022-07-21/
LOCATION:Brick\, 187 NW 28th St\, Miami\, FL\, United States
CATEGORIES:Afterwork,Night Club,Outdoor Event
ATTACH;FMTTYPE=image/jpeg:https://7dias7noches.net/wp-content/uploads/2022/07/WhatsApp-Image-2022-07-12-at-1.06.45-PM.jpeg
END:VEVENT
END:VCALENDAR