BEGIN:VCALENDAR
VERSION:2.0
PRODID:-//7Dias7Noches - ECPv6.3.3.1//NONSGML v1.0//EN
CALSCALE:GREGORIAN
METHOD:PUBLISH
X-ORIGINAL-URL:https://7dias7noches.net
X-WR-CALDESC:Events for 7Dias7Noches
REFRESH-INTERVAL;VALUE=DURATION:PT1H
X-Robots-Tag:noindex
X-PUBLISHED-TTL:PT1H
BEGIN:VTIMEZONE
TZID:America/New_York
BEGIN:DAYLIGHT
TZOFFSETFROM:-0500
TZOFFSETTO:-0400
TZNAME:EDT
DTSTART:20220313T070000
END:DAYLIGHT
BEGIN:STANDARD
TZOFFSETFROM:-0400
TZOFFSETTO:-0500
TZNAME:EST
DTSTART:20221106T060000
END:STANDARD
END:VTIMEZONE
BEGIN:VEVENT
DTSTART;TZID=America/New_York:20220618T210000
DTEND;TZID=America/New_York:20220619T020000
DTSTAMP:20260419T170056
CREATED:20220616T062707Z
LAST-MODIFIED:20220616T062708Z
UID:29936-1655586000-1655604000@7dias7noches.net
SUMMARY:Summer Vibe Saturday @ Mister East
DESCRIPTION:S
URL:https://7dias7noches.net/event/summer-vibe-saturday-mister-east/
LOCATION:Mister East\, 2401 Wood AVe\, Roselle\, NJ\, United States
CATEGORIES:Night Club
ATTACH;FMTTYPE=image/jpeg:https://7dias7noches.net/wp-content/uploads/2022/06/IMG-20220615-WA0012.jpg
END:VEVENT
BEGIN:VEVENT
DTSTART;TZID=America/New_York:20220618T220000
DTEND;TZID=America/New_York:20220619T040000
DTSTAMP:20260419T170056
CREATED:20220616T062233Z
LAST-MODIFIED:20220616T062234Z
UID:29931-1655589600-1655611200@7dias7noches.net
SUMMARY:Que Maldito Party @ Opus Lounge
DESCRIPTION:Ladies Free until Midnight. \nMusic by DJ Kass\, Fastlife\, Krezbeats and Jonez
URL:https://7dias7noches.net/event/que-maldito-party-opus-lounge/2022-06-18/
LOCATION:Opus Lounge & Restaurant\, 417 West 202nd St\, New York\, NY\, 10034
CATEGORIES:Night Club
ATTACH;FMTTYPE=image/jpeg:https://7dias7noches.net/wp-content/uploads/2022/06/IMG-20220615-WA0015.jpg
END:VEVENT
END:VCALENDAR