BEGIN:VCALENDAR
VERSION:2.0
PRODID:-//7Dias7Noches - ECPv6.3.3.1//NONSGML v1.0//EN
CALSCALE:GREGORIAN
METHOD:PUBLISH
X-WR-CALNAME:7Dias7Noches
X-ORIGINAL-URL:https://7dias7noches.net
X-WR-CALDESC:Events for 7Dias7Noches
REFRESH-INTERVAL;VALUE=DURATION:PT1H
X-Robots-Tag:noindex
X-PUBLISHED-TTL:PT1H
BEGIN:VTIMEZONE
TZID:America/New_York
BEGIN:DAYLIGHT
TZOFFSETFROM:-0500
TZOFFSETTO:-0400
TZNAME:EDT
DTSTART:20250309T070000
END:DAYLIGHT
BEGIN:STANDARD
TZOFFSETFROM:-0400
TZOFFSETTO:-0500
TZNAME:EST
DTSTART:20251102T060000
END:STANDARD
END:VTIMEZONE
BEGIN:VEVENT
DTSTART;TZID=America/New_York:20251121T210000
DTEND;TZID=America/New_York:20251122T023000
DTSTAMP:20260424T115851
CREATED:20251122T005033Z
LAST-MODIFIED:20251122T005033Z
UID:34155-1763758800-1763778600@7dias7noches.net
SUMMARY:Dj Camilo @ 46 Lounge
DESCRIPTION:
URL:https://7dias7noches.net/event/dj-camilo-46-lounge/
LOCATION:46 Lounge\, 300 Route 46\, Totowa\, NJ\, 07512\, United States
CATEGORIES:Night Club
ATTACH;FMTTYPE=image/jpeg:https://7dias7noches.net/wp-content/uploads/2025/11/galleria-EDIT.jpg
END:VEVENT
BEGIN:VEVENT
DTSTART;TZID=America/New_York:20251121T220000
DTEND;TZID=America/New_York:20251122T040000
DTSTAMP:20260424T115851
CREATED:20251122T002900Z
LAST-MODIFIED:20251122T014223Z
UID:34148-1763762400-1763784000@7dias7noches.net
SUMMARY:Garden Fridays @ Maraca NYC
DESCRIPTION:
URL:https://7dias7noches.net/event/garden-fridays-maraca-nyc-2/2025-11-21/
LOCATION:Maraca NYC\, 3795 10th Ave\, New York\, NY\, United States
CATEGORIES:Night Club
ATTACH;FMTTYPE=image/png:https://7dias7noches.net/wp-content/uploads/2025/11/Screenshot-2025-11-21-203917.png
END:VEVENT
BEGIN:VEVENT
DTSTART;TZID=America/New_York:20251122T230000
DTEND;TZID=America/New_York:20251123T040000
DTSTAMP:20260424T115851
CREATED:20251122T011118Z
LAST-MODIFIED:20251122T011118Z
UID:34159-1763852400-1763870400@7dias7noches.net
SUMMARY:Alta Gamma Saturday @ Maraca
DESCRIPTION:For reservations and info call or text Euro 646-644-6509
URL:https://7dias7noches.net/event/alta-gamma-saturday-maraca/
LOCATION:Maraca NYC\, 3795 10th Ave\, New York\, NY\, United States
CATEGORIES:Night Club
ATTACH;FMTTYPE=image/jpeg:https://7dias7noches.net/wp-content/uploads/2025/11/IMG-20251118-WA0023.jpg
END:VEVENT
BEGIN:VEVENT
DTSTART;TZID=America/New_York:20251123T230000
DTEND;TZID=America/New_York:20251124T040000
DTSTAMP:20260424T115851
CREATED:20251122T011551Z
LAST-MODIFIED:20251122T011551Z
UID:34162-1763938800-1763956800@7dias7noches.net
SUMMARY:
DESCRIPTION:For reservations call or text 646-644-6509
URL:https://7dias7noches.net/event/34162/
LOCATION:Opus Lounge & Restaurant\, 417 West 202nd St\, New York\, NY\, 10034
CATEGORIES:Night Club
ATTACH;FMTTYPE=image/jpeg:https://7dias7noches.net/wp-content/uploads/2025/11/europe-finale-1.jpg
END:VEVENT
BEGIN:VEVENT
DTSTART;TZID=America/New_York:20251128T220000
DTEND;TZID=America/New_York:20251129T040000
DTSTAMP:20260424T115851
CREATED:20251122T002900Z
LAST-MODIFIED:20251122T014223Z
UID:34150-1764367200-1764388800@7dias7noches.net
SUMMARY:Garden Fridays @ Maraca NYC
DESCRIPTION:
URL:https://7dias7noches.net/event/garden-fridays-maraca-nyc-2/2025-11-28/
LOCATION:Maraca NYC\, 3795 10th Ave\, New York\, NY\, United States
CATEGORIES:Night Club
ATTACH;FMTTYPE=image/png:https://7dias7noches.net/wp-content/uploads/2025/11/Screenshot-2025-11-21-203917.png
END:VEVENT
END:VCALENDAR