BEGIN:VCALENDAR
VERSION:2.0
PRODID:-//7Dias7Noches - ECPv6.3.3.1//NONSGML v1.0//EN
CALSCALE:GREGORIAN
METHOD:PUBLISH
X-WR-CALNAME:7Dias7Noches
X-ORIGINAL-URL:https://7dias7noches.net
X-WR-CALDESC:Events for 7Dias7Noches
REFRESH-INTERVAL;VALUE=DURATION:PT1H
X-Robots-Tag:noindex
X-PUBLISHED-TTL:PT1H
BEGIN:VTIMEZONE
TZID:America/New_York
BEGIN:DAYLIGHT
TZOFFSETFROM:-0500
TZOFFSETTO:-0400
TZNAME:EDT
DTSTART:20250309T070000
END:DAYLIGHT
BEGIN:STANDARD
TZOFFSETFROM:-0400
TZOFFSETTO:-0500
TZNAME:EST
DTSTART:20251102T060000
END:STANDARD
END:VTIMEZONE
BEGIN:VEVENT
DTSTART;TZID=America/New_York:20251205T220000
DTEND;TZID=America/New_York:20251206T010000
DTSTAMP:20260424T115851
CREATED:20251122T012154Z
LAST-MODIFIED:20251122T012239Z
UID:34167-1764972000-1764982800@7dias7noches.net
SUMMARY:Nueva York Comedy Showcase Friday December 5th.
DESCRIPTION:NUEVA YORK\nCOMEDY SHOWCASE\nFRIDAY\, DECEMBER 5TH\, 2025\n@ COMIC STRIP LIVE\n1568 2nd Avenue\, New York\, NY 10028\nHOSTED BY RUPERTO VANDERPOOL\nFeaturing Comedians from NETFLIX \, MTV \, COMEDY CENTRAL & SOCIAL MEDIA\nJUNIOR O – ELYSE DELUCCI – EAGLE WITT \nVIDEO MUSIC DISPLAY BY DJ PRECISE & DJ E.M.\n \nPrice: General Admission Tickets start $25\n \nFor Tickets visit:\nhttps://www.eventbrite.com/e/1948531743899?aff=oddtdtcreator
URL:https://7dias7noches.net/event/nueva-york-comedy-showcase-friday-december-5th/
LOCATION:The Comic Strip\, 1568 2nd Ave\, New York\, NY\, 10028\, United States
CATEGORIES:Comedy,Special Event
ATTACH;FMTTYPE=image/jpeg:https://7dias7noches.net/wp-content/uploads/2025/11/Resized_comdey-showcase-4.jpeg
END:VEVENT
BEGIN:VEVENT
DTSTART;TZID=America/New_York:20251205T220000
DTEND;TZID=America/New_York:20251206T040000
DTSTAMP:20260424T115851
CREATED:20251122T002900Z
LAST-MODIFIED:20251122T014224Z
UID:34151-1764972000-1764993600@7dias7noches.net
SUMMARY:Garden Fridays @ Maraca NYC
DESCRIPTION:
URL:https://7dias7noches.net/event/garden-fridays-maraca-nyc-2/2025-12-05/
LOCATION:Maraca NYC\, 3795 10th Ave\, New York\, NY\, United States
CATEGORIES:Night Club
ATTACH;FMTTYPE=image/png:https://7dias7noches.net/wp-content/uploads/2025/11/Screenshot-2025-11-21-203917.png
END:VEVENT
BEGIN:VEVENT
DTSTART;TZID=America/New_York:20251212T220000
DTEND;TZID=America/New_York:20251213T040000
DTSTAMP:20260424T115851
CREATED:20251122T002900Z
LAST-MODIFIED:20251122T014226Z
UID:34152-1765576800-1765598400@7dias7noches.net
SUMMARY:Garden Fridays @ Maraca NYC
DESCRIPTION:
URL:https://7dias7noches.net/event/garden-fridays-maraca-nyc-2/2025-12-12/
LOCATION:Maraca NYC\, 3795 10th Ave\, New York\, NY\, United States
CATEGORIES:Night Club
ATTACH;FMTTYPE=image/png:https://7dias7noches.net/wp-content/uploads/2025/11/Screenshot-2025-11-21-203917.png
END:VEVENT
BEGIN:VEVENT
DTSTART;TZID=America/New_York:20251219T220000
DTEND;TZID=America/New_York:20251220T040000
DTSTAMP:20260424T115851
CREATED:20251122T002900Z
LAST-MODIFIED:20251122T014227Z
UID:34153-1766181600-1766203200@7dias7noches.net
SUMMARY:Garden Fridays @ Maraca NYC
DESCRIPTION:
URL:https://7dias7noches.net/event/garden-fridays-maraca-nyc-2/2025-12-19/
LOCATION:Maraca NYC\, 3795 10th Ave\, New York\, NY\, United States
CATEGORIES:Night Club
ATTACH;FMTTYPE=image/png:https://7dias7noches.net/wp-content/uploads/2025/11/Screenshot-2025-11-21-203917.png
END:VEVENT
BEGIN:VEVENT
DTSTART;TZID=America/New_York:20251219T220000
DTEND;TZID=America/New_York:20251220T040000
DTSTAMP:20260424T115851
CREATED:20251216T012631Z
LAST-MODIFIED:20251216T012939Z
UID:34181-1766181600-1766203200@7dias7noches.net
SUMMARY:Showtime Fridays @ Code
DESCRIPTION:Come Experience The Show Of Your Life with Exotic Dancers\, Aerialist\, Stilt Walkers\, Fire Breathers and More!\n\n\n\nNew party 🚨 🚨 \nFRIDAY\, DECEMBER 19th \n— GRAND OPENING: of \nOf SHOWTIME FRIDAYS 🎬🔥 \n🚨 FREE ADMISSION Until12am w/ Eventbrite tickets \n💨 FREE Hookah until12am. \n🍹 2/1 Drinks until12am \nGet Your FREE Tickets 🎫 CLICK 👇 \n🎂 Birthday Packages Available \n🍾 Bottle Service Available \n🅿️ Valet Parking Available \n🎧 Music By: \n@iamfrankroth \n@djmannymills \n@djmikeenyc \n@djkelznyc \nHOSTED BY: \nExotic Dancers | Aerialist | Fire breather | Stilt walkers and much more! \n📍 CODE Nightclub \n(20-30 Steinway St\, Astoria\, NY) \n⏰ Doors 11PM–4AM \n👠 Dress Code Enforced \nMore Info & Reservations: \n☎️ 718-726-1600
URL:https://7dias7noches.net/event/showtime-fridays-code/
LOCATION:Code Astoria\, https://www.codeastorianyc.com/\, Queens\, NY\, 11105\, United States
CATEGORIES:Night Club
ATTACH;FMTTYPE=image/jpeg:https://7dias7noches.net/wp-content/uploads/2025/12/WhatsApp-Image-2025-12-15-at-13.39.17_8ebf9243.jpg
END:VEVENT
BEGIN:VEVENT
DTSTART;TZID=America/New_York:20251226T220000
DTEND;TZID=America/New_York:20251227T040000
DTSTAMP:20260424T115851
CREATED:20251122T002900Z
LAST-MODIFIED:20251122T002900Z
UID:34177-1766786400-1766808000@7dias7noches.net
SUMMARY:Garden Fridays @ Maraca NYC
DESCRIPTION:
URL:https://7dias7noches.net/event/garden-fridays-maraca-nyc-2/2025-12-26/
LOCATION:Maraca NYC\, 3795 10th Ave\, New York\, NY\, United States
CATEGORIES:Night Club
ATTACH;FMTTYPE=image/png:https://7dias7noches.net/wp-content/uploads/2025/11/Screenshot-2025-11-21-203917.png
END:VEVENT
END:VCALENDAR